BEGIN:VCALENDAR
VERSION:2.0
PRODID:-//eventon.com NONSGML v1.0//EN
CALSCALE:GREGORIAN
METHOD:PUBLISH
BEGIN:VEVENT
UID:69e933f11541c
DTSTAMP:20260422T204745Z
DTSTART:20250109T230000Z
DTEND:20250110T003000Z
LOCATION:
SUMMARY:Board Meeting - Bartow City Hall
DESCRIPTION:Board Meeting - Bartow City Hall\nhttps://www.ridgeleagueofciti
 es.org/events/board-meeting-bartow-city-hall-8/
URL:https://www.ridgeleagueofcities.org/events/board-meeting-bartow-city-hall-8/
END:VEVENT
END:VCALENDAR