BEGIN:VCALENDAR
VERSION:2.0
PRODID:-//eventon.com NONSGML v1.0//EN
CALSCALE:GREGORIAN
METHOD:PUBLISH
BEGIN:VEVENT
UID:69e579e56f6b5
DTSTAMP:20260420T005709Z
DTSTART:20260514T220000Z
DTEND:20260514T233000Z
LOCATION:
SUMMARY:Board Meeting - Bartow City Hall
DESCRIPTION:Board Meeting - Bartow City Hall\nhttps://www.ridgeleagueofciti
 es.org/events/board-meeting-bartow-city-hall-11/
URL:https://www.ridgeleagueofcities.org/events/board-meeting-bartow-city-hall-11/
END:VEVENT
END:VCALENDAR